BEGIN:VCALENDAR
VERSION:2.0
PRODID:-//Apple Inc.//Mac OS X 10.14.6//EN
CALSCALE:GREGORIAN
BEGIN:VEVENT
TRANSP:OPAQUE
DTEND;VALUE=DATE:20230821
X-APPLE-STRUCTURED-LOCATION;VALUE=URI;X-TITLE=2 Rue du Château 21410 Bar
 birey-sur-Ouche France:geo:47.252561,4.755505
UID:0622B227-97CC-4F6E-BA73-B1A3EE21CF44
DTSTAMP:20220720T172533Z
LOCATION:2 Rue du Château 21410 Barbirey-sur-Ouche France
DESCRIPTION:Datum - 18 tot 20 augustus 2023\nLocatie- 2 Rue du Château 2
 1410 Barbirey-sur-Ouche France
SEQUENCE:0
CLASS:PUBLIC
SUMMARY;LANGUAGE=en-us:Trouwerij Jasmijn en Bart
LAST-MODIFIED:20220831T163941Z
DTSTART;VALUE=DATE:20230818
CREATED:20220720T172533Z
X-APPLE-TRAVEL-ADVISORY-BEHAVIOR:AUTOMATIC
BEGIN:VALARM
X-WR-ALARMUID:3E0864AB-9491-4FF6-837C-0587253F7B80
UID:3E0864AB-9491-4FF6-837C-0587253F7B80
TRIGGER:-PT15H
X-APPLE-DEFAULT-ALARM:TRUE
ATTACH;VALUE=URI:Basso
ACTION:AUDIO
END:VALARM
END:VEVENT
END:VCALENDAR
